BEGIN:VCALENDAR
VERSION:2.0
PRODID:-//Town of Newry, Maine - ECPv6.15.20//NONSGML v1.0//EN
CALSCALE:GREGORIAN
METHOD:PUBLISH
X-WR-CALNAME:Town of Newry, Maine
X-ORIGINAL-URL:https://newrymaine.org
X-WR-CALDESC:Events for Town of Newry, Maine
REFRESH-INTERVAL;VALUE=DURATION:PT1H
X-Robots-Tag:noindex
X-PUBLISHED-TTL:PT1H
BEGIN:VTIMEZONE
TZID:America/New_York
BEGIN:DAYLIGHT
TZOFFSETFROM:-0500
TZOFFSETTO:-0400
TZNAME:EDT
DTSTART:20250309T070000
END:DAYLIGHT
BEGIN:STANDARD
TZOFFSETFROM:-0400
TZOFFSETTO:-0500
TZNAME:EST
DTSTART:20251102T060000
END:STANDARD
BEGIN:DAYLIGHT
TZOFFSETFROM:-0500
TZOFFSETTO:-0400
TZNAME:EDT
DTSTART:20260308T070000
END:DAYLIGHT
BEGIN:STANDARD
TZOFFSETFROM:-0400
TZOFFSETTO:-0500
TZNAME:EST
DTSTART:20261101T060000
END:STANDARD
BEGIN:DAYLIGHT
TZOFFSETFROM:-0500
TZOFFSETTO:-0400
TZNAME:EDT
DTSTART:20270314T070000
END:DAYLIGHT
BEGIN:STANDARD
TZOFFSETFROM:-0400
TZOFFSETTO:-0500
TZNAME:EST
DTSTART:20271107T060000
END:STANDARD
END:VTIMEZONE
BEGIN:VEVENT
DTSTART;TZID=America/New_York:20260203T150000
DTEND;TZID=America/New_York:20260203T150000
DTSTAMP:20260423T132355
CREATED:20260113T123951Z
LAST-MODIFIED:20260122T133856Z
UID:4238-1770130800-1770130800@newrymaine.org
SUMMARY:Select Board Meeting
DESCRIPTION:
URL:https://newrymaine.org/event/select-board-meeting-5/
END:VEVENT
BEGIN:VEVENT
DTSTART;TZID=America/New_York:20260204T180000
DTEND;TZID=America/New_York:20260204T180000
DTSTAMP:20260423T132355
CREATED:20260113T124046Z
LAST-MODIFIED:20260113T124046Z
UID:4240-1770228000-1770228000@newrymaine.org
SUMMARY:Planning Board Meeting
DESCRIPTION:
URL:https://newrymaine.org/event/planning-board-meeting-5/
END:VEVENT
BEGIN:VEVENT
DTSTART;TZID=America/New_York:20260209T170000
DTEND;TZID=America/New_York:20260209T170000
DTSTAMP:20260423T132355
CREATED:20260113T124223Z
LAST-MODIFIED:20260113T124223Z
UID:4242-1770656400-1770656400@newrymaine.org
SUMMARY:Comprehensive Plan Committee Meeting
DESCRIPTION:
URL:https://newrymaine.org/event/comprehensive-plan-committee-meeting-3/
END:VEVENT
BEGIN:VEVENT
DTSTART;VALUE=DATE:20260216
DTEND;VALUE=DATE:20260217
DTSTAMP:20260423T132355
CREATED:20260113T124354Z
LAST-MODIFIED:20260113T124354Z
UID:4245-1771200000-1771286399@newrymaine.org
SUMMARY:CLOSED- President's Day
DESCRIPTION:
URL:https://newrymaine.org/event/closed-presidents-day/
END:VEVENT
BEGIN:VEVENT
DTSTART;TZID=America/New_York:20260217T150000
DTEND;TZID=America/New_York:20260217T150000
DTSTAMP:20260423T132355
CREATED:20260113T124454Z
LAST-MODIFIED:20260122T133948Z
UID:4247-1771340400-1771340400@newrymaine.org
SUMMARY:Select Board Meeting
DESCRIPTION:
URL:https://newrymaine.org/event/select-board-meeting-6/
END:VEVENT
BEGIN:VEVENT
DTSTART;TZID=America/New_York:20260218T180000
DTEND;TZID=America/New_York:20260218T180000
DTSTAMP:20260423T132355
CREATED:20260113T124533Z
LAST-MODIFIED:20260113T124533Z
UID:4249-1771437600-1771437600@newrymaine.org
SUMMARY:Planning Board Meeting
DESCRIPTION:
URL:https://newrymaine.org/event/planning-board-meeting-6/
END:VEVENT
BEGIN:VEVENT
DTSTART;TZID=America/New_York:20260218T180000
DTEND;TZID=America/New_York:20260218T180000
DTSTAMP:20260423T132355
CREATED:20260211T124042Z
LAST-MODIFIED:20260211T124042Z
UID:4312-1771437600-1771437600@newrymaine.org
SUMMARY:Planning Board Public Hearing
DESCRIPTION:20260218_agenda_publicHearing
URL:https://newrymaine.org/event/planning-board-public-hearing/
END:VEVENT
BEGIN:VEVENT
DTSTART;TZID=America/New_York:20260224T080000
DTEND;TZID=America/New_York:20260224T130000
DTSTAMP:20260423T132355
CREATED:20260127T123954Z
LAST-MODIFIED:20260127T123954Z
UID:4273-1771920000-1771938000@newrymaine.org
SUMMARY:Assessor Office Hours
DESCRIPTION:
URL:https://newrymaine.org/event/assessor-office-hours-3/
END:VEVENT
END:VCALENDAR