BEGIN:VCALENDAR
VERSION:2.0
PRODID:-//Town of Newry, Maine - ECPv6.15.20//NONSGML v1.0//EN
CALSCALE:GREGORIAN
METHOD:PUBLISH
X-ORIGINAL-URL:https://newrymaine.org
X-WR-CALDESC:Events for Town of Newry, Maine
REFRESH-INTERVAL;VALUE=DURATION:PT1H
X-Robots-Tag:noindex
X-PUBLISHED-TTL:PT1H
BEGIN:VTIMEZONE
TZID:America/New_York
BEGIN:DAYLIGHT
TZOFFSETFROM:-0500
TZOFFSETTO:-0400
TZNAME:EDT
DTSTART:20250309T070000
END:DAYLIGHT
BEGIN:STANDARD
TZOFFSETFROM:-0400
TZOFFSETTO:-0500
TZNAME:EST
DTSTART:20251102T060000
END:STANDARD
BEGIN:DAYLIGHT
TZOFFSETFROM:-0500
TZOFFSETTO:-0400
TZNAME:EDT
DTSTART:20260308T070000
END:DAYLIGHT
BEGIN:STANDARD
TZOFFSETFROM:-0400
TZOFFSETTO:-0500
TZNAME:EST
DTSTART:20261101T060000
END:STANDARD
BEGIN:DAYLIGHT
TZOFFSETFROM:-0500
TZOFFSETTO:-0400
TZNAME:EDT
DTSTART:20270314T070000
END:DAYLIGHT
BEGIN:STANDARD
TZOFFSETFROM:-0400
TZOFFSETTO:-0500
TZNAME:EST
DTSTART:20271107T060000
END:STANDARD
END:VTIMEZONE
BEGIN:VEVENT
DTSTART;VALUE=DATE:20261111
DTEND;VALUE=DATE:20261112
DTSTAMP:20260423T200027
CREATED:20260312T152535Z
LAST-MODIFIED:20260312T152535Z
UID:4393-1794355200-1794441599@newrymaine.org
SUMMARY:Office Closed- Veteran's Day
DESCRIPTION:
URL:https://newrymaine.org/event/office-closed-veterans-day/
END:VEVENT
BEGIN:VEVENT
DTSTART;TZID=America/New_York:20261125T120000
DTEND;TZID=America/New_York:20261125T170000
DTSTAMP:20260423T200027
CREATED:20260312T152733Z
LAST-MODIFIED:20260312T152733Z
UID:4395-1795608000-1795626000@newrymaine.org
SUMMARY:Office Closing @ Noon
DESCRIPTION:
URL:https://newrymaine.org/event/office-closing-noon/
END:VEVENT
BEGIN:VEVENT
DTSTART;VALUE=DATE:20261126
DTEND;VALUE=DATE:20261127
DTSTAMP:20260423T200027
CREATED:20260312T152803Z
LAST-MODIFIED:20260312T152803Z
UID:4397-1795651200-1795737599@newrymaine.org
SUMMARY:Office Closed- Thanksgiving
DESCRIPTION:
URL:https://newrymaine.org/event/office-closed-thanksgiving/
END:VEVENT
END:VCALENDAR